BEGIN:VCALENDAR
VERSION:2.0
PRODID:icalendar-ruby
CALSCALE:GREGORIAN
METHOD:PUBLISH
BEGIN:VTIMEZONE
TZID:Europe/London
BEGIN:DAYLIGHT
DTSTART:20170326T020000
TZOFFSETFROM:+0000
TZOFFSETTO:+0100
RRULE:FREQ=YEARLY;BYDAY=-1SU;BYMONTH=3
TZNAME:BST
END:DAYLIGHT
BEGIN:STANDARD
DTSTART:20171029T010000
TZOFFSETFROM:+0100
TZOFFSETTO:+0000
RRULE:FREQ=YEARLY;BYDAY=-1SU;BYMONTH=10
TZNAME:GMT
END:STANDARD
END:VTIMEZONE
BEGIN:VEVENT
DTSTAMP:20260420T130705Z
UID:qmusu-sports-societies-grand-ball-2017-officers-table-tickets
DTSTART;TZID=Europe/London:20170412T193000
DTEND;TZID=Europe/London:20170413T030000
LOCATION:Jam House\, Edinburgh
SUMMARY:QMUSU Sports & Societies Grand Ball 2017 (Officers Table Tickets)
END:VEVENT
END:VCALENDAR
